{"text_format":"3","workbook":"xlsx","n_sheets":3,"sheets":["dane","wprowadzenie","LZ"],"not_rendered":{"macros":1,"defined_names":113,"comments":1},"read":"whole","date_system":"1900"}

{"sheet":"dane","index":0,"n_rows":106,"n_cols":136,"rows_kept":106,"merged":[[1,6,2,6],[1,7,2,7]]}
[{"$nulls":16},0,"a","szyny","b","Kolumna1","c","Kolumna1","d","cena","e","cena","f","cena","g","Kolumna1","h","cena","i","cena","j","cena","k","Kolumna1","l","Kolumna1","m","cena","n","cena","o","cena","p","cena","r","cena","s","cena","t","cena","u","cena","w","x","cena","y","cena","z","cena","aa","cena","bb","cena","cc","cena","dd","cena","ee","cena","ff","cena","gg","cena","hh","cena","ii","cena","jj","cena","kk","cena2","ll","cena","mm","cena2","nn","cena","oo","cena","pp",null,"rr",null,"ss","cena","tt","cena","uu","cena","ww","cena"]
[{"$nulls":6},"Opis listy","Cena",{"$nulls":8},1,"a1",1,"b1",null,"c1",null,"d1",750,"e1",1600,"f1",110,"g1",null,"h1",5000,"i1",0,"j1",630,"k1",null,"l1",null,"m1",120,"n1",560,"o2",4320,"p1",180,"r1",7912,"s1",5512,"t1",960,"u1",2400,1,"x1",1500,"y1",1200,"z1",30,"aa1",1900,"bb1",1420,"cc1",30,"dd1",null,"ee1",19500,"ff1",1000,"gg1",4000,"hh1",65,"ii1",99,"jj1",3,"kk1",66,"ll1",650,"mm1",2,"nn1",1,"oo1",100,{"$nulls":4},"ss1",15200,"tt1",13600,"uu1",31200,"ww1",450]
[{"$nulls":16},2,"a2",2,"b2",null,"c2",null,"d2",950,"e2",2000,"f2",100,"g2",null,"h2",4500," ",null,"j2",796,"k2",null,"l2",null,"m2",60,"n2",560,"o2",3800,"p2",195,"r2",9752,"s2",3680,"t2",96,"u2",472,2,"x2",1900,"y2",1420,"z2",100,"aa2",600," ",0,"cc2",150,"dd2",null,"ee2",20500,"ff2",1500,"gg2",2400,"hh2",7,"ii2",999,"jj2",5,"kk2",88,"ll2",1375,"mm2",4," ",0,"oo2",500,{"$nulls":4},"ss2",17600,"tt2",15200," ",0,"ww2",130]
[1,1,{"$nulls":4},"pozycja1",{"$nulls":9},3,"a3",3,"b3",null,"c3",null,"d2",1130,"e3",2375,"f3",75,"g3",null," ",0,null,null,"j3",1100," ",null," "," "," ",0,"n3",430," ",0,"p3",354,"r3",6792,"s3",3992,"t3",784,"u3",1950,3,"x3",1800,"y3",1520," ",0,{"$nulls":4}," ",0,"dd3",null,"ee3",15500,"ff3",2000,"gg3",2,null,null,"ii3",9999,"jj3",3,"kk3",99,"ll3",8,"mm3",6,{"$nulls":10},"tt3",21600,null,null,"ww3",62.8]
[2,null,1,{"$nulls":3},"d1",{"$nulls":9},4,"a4",4,null,null,"c4",null,"d4",244,"e3",4567,null,null,"g4",{"$nulls":5},"j4",1100,{"$nulls":6}," ",0,null,null,"p4",152,null,0,"s4",3000," ",0,"  ",0,4,{"$nulls":14},"ee4",16000,{"$nulls":8},"jj4",2,"kk4",22,"ll4",9,"mm4",7,{"$nulls":10},"tt4",27200]
[3,null,2,{"$nulls":3},"d2",{"$nulls":9},5,"a5",5,{"$nulls":4},"d5",300,"e4",2340,null,null,"g5",{"$nulls":5}," ",0,{"$nulls":11},0,{"$nulls":3},0,{"$nulls":4},5,{"$nulls":14},"ee5",28000,{"$nulls":12},"ll5",0,null,0,{"$nulls":10},"tt5",18480]
[4,null,3,{"$nulls":3},"d3",{"$nulls":9},6,"a6",6,{"$nulls":5},0,"e5",5000,{"$nulls":30},6,{"$nulls":42},"tt6",19600]
[5,null,4,{"$nulls":3},"d4",{"$nulls":9},7,"a7",7,{"$nulls":7},0,{"$nulls":30},7]
[6,null,5,{"$nulls":3},"d5",{"$nulls":9},8,"a8",8,{"$nulls":38},8]
[7,2,{"$nulls":4},"pozycja2",{"$nulls":9},9,{"$nulls":40},9]
[8,null,1,{"$nulls":3},"e1",{"$nulls":9},10]
[9,null,2,{"$nulls":3},"e2",{"$nulls":9},11]
[11,null,3,{"$nulls":3},"e3",{"$nulls":9},12]
[12,null,4,{"$nulls":3},"e4",{"$nulls":9},13]
[13,null,5,{"$nulls":3},"e5",{"$nulls":9},14,{"$nulls":40},42,43,44,45,46,47,48,49,50,51,52,53,54,55,56,57,58,59,60,61,62,63,64,65,66,67,68,69,70,71,72,73,74,75,76,77,78,79,80,81,82,83,84,85,86,87,88,89,90]
[14,3,{"$nulls":4},"pozycja3",{"$nulls":9},15]
[15,null,1,{"$nulls":3},"f1",{"v":110,"d":"110.00 zł"},{"$nulls":8},16]
[16,null,2,{"$nulls":3},"f2",{"v":100,"d":"100.00 zł"},{"$nulls":8},17]
[17,null,3,{"$nulls":3},"f3",{"v":90,"d":"90.00 zł"},{"$nulls":8},18]
[18,4,{"$nulls":4},"pozycja4",{"$nulls":9},19]
[19,null,1,{"$nulls":3},"g",{"$nulls":9},20]
[20,null,null,1,null,null,"g1",{"$nulls":9},21]
[21,{"$nulls":3},1,null,"dd1",{"$nulls":9},22]
[22,{"$nulls":4},1,"ss1",{"v":15200,"d":"15,200.00 zł"},{"$nulls":8},23]
[23,{"$nulls":4},2,"ss2",{"v":17600,"d":"17,600.00 zł"},{"$nulls":8},24]
[24,{"$nulls":3},2,null,"dd2",{"$nulls":9},25]
[25,{"$nulls":4},1,"tt1",{"v":13600,"d":"13,600.00 zł"},{"$nulls":8},26]
[26,{"$nulls":4},2,"tt2",{"v":15200,"d":"15,200.00 zł"},{"$nulls":8},27]
[27,{"$nulls":4},3,"tt3",{"v":21600,"d":"21,600.00 zł"},{"$nulls":8},28]
[28,{"$nulls":4},4,"tt4",{"v":27200,"d":"27,200.00 zł"},{"$nulls":8},29]
[29,{"$nulls":4},5,"tt5",{"v":18480,"d":"18,480.00 zł"},{"$nulls":8},30]
[30,{"$nulls":4},6,"tt6",{"v":19600,"d":"19,600.00 zł"},{"$nulls":8},31]
[31,{"$nulls":3},3,null,"dd3",{"$nulls":9},32]
[32,{"$nulls":4},1,"uu1",{"v":31200,"d":"31,200.00 zł"},{"$nulls":8},33]
[33,null,null,2,null,null,"g2",{"$nulls":9},34]
[34,{"$nulls":3},1,null,"ee1",{"v":19500,"d":"19,500.00 zł"},{"$nulls":8},35]
[35,{"$nulls":3},2,null,"ee2",{"v":20500,"d":"20,500.00 zł"},{"$nulls":8},36]
[36,{"$nulls":3},3,null,"ee3",{"v":15500,"d":"15,500.00 zł"},{"$nulls":8},37]
[37,{"$nulls":3},4,null,"ee4",{"v":16000,"d":"16,000.00 zł"},{"$nulls":8},38]
[38,{"$nulls":3},5,null,"ee5",{"v":28000,"d":"28,000.00 zł"},{"$nulls":8},39]
[39,null,null,3,null,null,"g3",{"$nulls":9},40]
[40,{"$nulls":3},1,null,"ff1",{"v":1000,"d":"1,000.00 zł"},{"$nulls":8},41]
[41,{"$nulls":3},2,null,"ff2",{"v":1500,"d":"1,500.00 zł"},{"$nulls":8},42]
[42,{"$nulls":3},3,null,"ff3",{"v":2000,"d":"2,000.00 zł"},{"$nulls":8},43]
[43,null,null,4,null,null,"g4",{"$nulls":9},44]
[44,{"$nulls":3},1,null,"ll",{"$nulls":9},45]
[45,{"$nulls":4},1,"ll1",{"$nulls":9},46]
[46,{"$nulls":4},2,"ll2",{"$nulls":9},47]
[47,{"$nulls":4},3,"ll3",{"$nulls":9},48]
[48,{"$nulls":4},4,"ll4",{"$nulls":9},49]
[49,{"$nulls":4},5,"ll5",{"$nulls":9},50]
[50,{"$nulls":3},2,null,"gg"]
[51,{"$nulls":4},1,"gg1"]
[52,{"$nulls":4},2,"gg2"]
[53,{"$nulls":4},3,"gg3"]
[54,null,null,5,null,null,"u"]
[55,{"$nulls":3},1,null,"u1",{"v":2400,"d":"2,400.00 zł"},{"$nulls":127},120]
[56,{"$nulls":3},2,null,"u2",{"v":472,"d":"472.00 zł"}]
[57,null,2,{"$nulls":3},"h"]
[58,null,null,1,null,null,"h1",{"v":5000,"d":"5,000.00 zł"},{"$nulls":127},136]
[59,null,null,2,null,null,"h2",{"v":4500,"d":"4,500.00 zł"}]
[60,null,3,{"$nulls":3},"j"]
[61,null,null,1,null,null,"j1",{"v":670,"d":"670.00 zł"}]
[62,null,null,2,null,null,"j2",{"v":700,"d":"700.00 zł"}]
[63,null,null,3,null,null,"j3",{"v":750,"d":"750.00 zł"}]
[64,null,null,4,null,null,"j4",{"v":1100,"d":"1,100.00 zł"}]
[65,5,{"$nulls":4},"pozycja5"]
[66,null,1,{"$nulls":3},"k"]
[67,null,null,1,null,null,"k1"]
[68,{"$nulls":3},1,null,"x1",{"v":1500,"d":"1,500.00 zł"}]
[69,{"$nulls":3},2,null,"x2",{"v":1900,"d":"1,900.00 zł"}]
[70,{"$nulls":3},3,null,"x3",{"v":1900,"d":"1,900.00 zł"}]
[71,null,null,2,null,null,"k2"]
[72,{"$nulls":3},1,null,"y1",{"$f":"H70*0.8","v":{"v":1200,"d":"1,200.00 zł"}}]
[73,{"$nulls":3},2,null,"y2",{"$f":"H71*0.8","v":{"v":1520,"d":"1,520.00 zł"}}]
[74,{"$nulls":3},3,null,"y3",{"v":1520,"d":"1,520.00 zł"}]
[75,null,null,3,null,null,"k3"]
[76,{"$nulls":3},1,null,"z1",{"v":30,"d":"30.00 zł"}]
[77,{"$nulls":3},2,null,"z2",{"v":100,"d":"100.00 zł"}]
[78,null,2,{"$nulls":3},"l"]
[79,null,null,1,null,null,"l1"]
[80,{"$nulls":3},1,null,"aa1",{"v":1900,"d":"1,900.00 zł"}]
[81,{"$nulls":3},2,null,"aa2",{"v":600,"d":"600.00 zł"}]
[82,null,null,2,null,null,"l2"]
[83,{"$nulls":3},1,null,"bb1",{"v":1800,"d":"1,800.00 zł"}]
[84,null,null,3,null,null,"l3"]
[85,{"$nulls":3},1,null,"cc1",{"v":30,"d":"30.00 zł"}]
[86,{"$nulls":3},2,null,"cc2",{"v":150,"d":"150.00 zł"}]
[87,null,3,{"$nulls":3},"m"]
[88,null,null,1,null,null,"m1",{"v":120,"d":"120.00 zł"}]
[89,null,null,2,null,null,"m2",{"v":60,"d":"60.00 zł"}]
[90,null,4,{"$nulls":3},"n"]
[91,null,null,1,null,null,"n1",{"v":560,"d":"560.00 zł"}]
[92,null,null,2,null,null,"n2",{"v":560,"d":"560.00 zł"}]
[93,null,null,3,null,null,"n3",{"v":500,"d":"500.00 zł"}]
[94,null,5,{"$nulls":3},"o"]
[95,null,null,1,null,null,"o1",{"v":4500,"d":"4,500.00 zł"}]
[96,null,null,2,null,null,"o2",{"v":3800,"d":"3,800.00 zł"}]
[97,null,6,{"$nulls":3},"p"]
[98,null,null,1,null,null,"p1",{"v":180,"d":"180.00 zł"}]
[99,null,null,2,null,null,"p2",{"v":270,"d":"270.00 zł"}]
[100,null,null,3,null,null,"p3",{"v":400,"d":"400.00 zł"}]
[101,null,null,4,null,null,"p4",{"v":160,"d":"160.00 zł"}]
[102,null,7,{"$nulls":3},"inne"]
[103,null,null,1,null,null,"uzupełnienie",{"v":2900,"d":"2,900.00 zł"}]
[{"$nulls":8},{"$f":"IF(B105=1,\"t\",0)","v":0}]

{"sheet":"wprowadzenie","index":1,"n_rows":4,"n_cols":8,"rows_kept":4}
[null,"jj",{"$nulls":5},3]
[null,"ll",{"$nulls":5},1]
[null,"nn",{"$nulls":5},1]
[null,"oo",{"$nulls":5},2]

{"sheet":"LZ","index":2,"n_rows":46,"n_cols":104,"rows_kept":46,"merged":[[4,0,4,7],[5,0,6,0],[5,1,6,1],[5,5,6,5],[5,6,6,6],[5,7,6,7],[5,9,6,10],[9,0,11,0],[9,1,11,1]]}
[null,"a",null,"1. formularz ma wyglądać tak jak jest przedstaiony i tak samo dzialać, tylko chcę, żeby makro pobierało dane z tabeli \"tabelka\" w arkuszu \"dane\" a nie z tego arkusza \"LZ\"",{"$nulls":7},1,{"$nulls":46},"x","cena","y","cena",null,null,"aa","cena","bb","cena",null,null,"dd","cena","ee","cena","ff","cena","gg","cena",{"$nulls":20},"ss","cena","tt","cena","uu","cena"]
[null,"b",null,"2. ponadto jakby się udało wszystkie informacje pobierać do formularza w postaci listy przedstawionej w arkuszu \"dane\", a nie z tabeli \"tabelka\", w taki sposób, aby móc powiększyć lub pomniejszyć tę listę w każdej chwili",{"$nulls":7},1,{"$nulls":46},"x1",1500,"y1",1200,null,null,"aa1",1900,"bb1",1420,null,null,"dd1",null,"ee1",19500,"ff1",1000,"gg1",4000,{"$nulls":20},"ss1",15200,"tt1",13600,"uu1",31200]
[null,"c",{"$nulls":9},1,{"$nulls":46},"x2",1900,"y2",1420,null,null,"aa2",600," ",0,null,null,"dd2",null,"ee2",20500,"ff2",1500,"gg2",2400,{"$nulls":20},"ss2",17600,"tt2",15200," ",0]
[{"$nulls":58},"x3",1800,"y3",1520,{"$nulls":8},"dd3",null,"ee3",15500,"ff3",2000,"gg3",2,{"$nulls":22},"tt3",21600]
["Rodzaj pola: 1",{"$nulls":71},"ee4",16000,{"$nulls":26},"tt4",27200]
["lp.","Opis",{"$nulls":3},"Ilość","Cena za sztukę ","Wartość",null,"Wartość S",{"$nulls":62},"ee5",28000,{"$nulls":26},"tt5",18480]
[{"$nulls":100},"tt6",19600]
[1,"pozycja1",{"$nulls":4},{"$f":"VLOOKUP(L8,tabelka,9,0)","v":750},{"$f":"VLOOKUP(O8,tabelka,42,0)*G8","v":{"v":750,"d":"750.00 zł"}},null,"S1",{"$f":"H8","v":{"v":750,"d":"750.00 zł"}},1,null,null,1]
[2,"pozycja2",{"$nulls":4},{"$f":"VLOOKUP(L9,tabelka,11,0)","v":1600},{"$f":"VLOOKUP(O9,tabelka,42,0)*G9","v":{"v":1600,"d":"1,600.00 zł"}},null,"S2",{"$f":"H9","v":{"v":1600,"d":"1,600.00 zł"}},1,null,null,1]
[3,"pozycja3",{"$nulls":4},{"$f":"IF(L10=TRUE,dane!AC2,0)","v":110},{"$f":"VLOOKUP(O10,tabelka,42,0)*G10","v":{"v":110,"d":"110.00 zł"}},null,"S3",{"$f":"SUM(H10:H32)","v":{"v":14716,"d":"14,716.00 zł"}},true,null,null,1]
[{"$nulls":6},{"$f":"IF(L11=TRUE,dane!AC3,0)","v":100},{"$f":"VLOOKUP(O11,tabelka,42,0)*G11","v":{"v":100,"d":"100.00 zł"}},null,"S4",{"$f":"SUM(H34:H37)","v":{"v":16616,"d":"16,616.00 zł"}},true,null,null,1]
[{"$nulls":6},{"$f":"IF(L12=TRUE,dane!AC4,0)","v":0},{"$f":"VLOOKUP(O12,tabelka,42,0)*G12","v":{"v":0,"d":"0.00 zł"}},null,"S5",{"$f":"SUM(H39:H41)","v":{"v":1041,"d":"1,041.00 zł"}},false,null,null,1]
[4,"pozycja4",{"$nulls":7},"S6",{"$f":"SUM(H43)","v":{"v":450,"d":"450.00 zł"}}]
["4.1","g",{"$nulls":4},{"$f":"IF(L14=5,0,VLOOKUP(M14,tabelka,54+2*L14,0) +IF( N14=0,0,VLOOKUP(N14,tabelka,82+2*M14,0)))","v":0},{"$f":"VLOOKUP(O14,tabelka,42,0)*G14","v":{"v":0,"d":"0.00 zł"}},null,"S7",{"$f":"SUM(H45)","v":{"v":500,"d":"500.00 zł"}},1,2,0,1]
[null,"dodatkowe wyposażenie (nie uzupelnione)",{"$nulls":3},{"$f":"IF(L15=TRUE,1,0)","v":1},0,{"$f":"G15*F15","v":{"v":0,"d":"0.00 zł"}},null,"SUMA",{"$f":"SUM(K8:K14)","v":{"v":35673,"d":"35,673.00 zł"}},true,{"$nulls":46},43,44,45,46,null,null,49,50,51,52,null,null,55,56,57,58,59,60,61,62,{"$nulls":20},83,84,85,86,87,88]
["4.2","h",{"$nulls":4},{"$f":"VLOOKUP(L16,tabelka,17,0)","v":5000},{"$f":"VLOOKUP(O16,tabelka,42,0)*G16","v":{"v":5000,"d":"5,000.00 zł"}},{"$nulls":3},1,null,null,1]
["4.3","i",{"$nulls":4},{"$f":"VLOOKUP(L17,tabelka,19,0)","v":0},{"$f":"VLOOKUP(O17,tabelka,42,0)*G17","v":{"v":0,"d":"0.00 zł"}},{"$nulls":3},1,null,null,1]
["4.4","j",{"$nulls":4},{"$f":"VLOOKUP(L18,tabelka,21,0)","v":796},{"$f":"VLOOKUP(O18,tabelka,42,0)*G18","v":{"v":796,"d":"796.00 zł"}},{"$nulls":3},2,null,null,1]
["4.5",{"$nulls":4},{"$f":"IF(L19=TRUE,1,0)","v":0},35,{"$f":"F19*G19","v":{"v":0,"d":"0.00 zł"}},{"$nulls":3},false]
[{"$nulls":5},{"$f":"IF(L20=TRUE,1,0)","v":0},25,{"$f":"F20*G20","v":{"v":0,"d":"0.00 zł"}},{"$nulls":3},false]
[5,"pozycja5"]
["5.1","k",{"$nulls":4},{"$f":"IFERROR(VLOOKUP(M22,tabelka,42+2*L22,0)+VLOOKUP(N22,tabelka,48,0),0)","v":1600},{"$f":"VLOOKUP(O22,tabelka,42,0)*G22","v":{"v":1600,"d":"1,600.00 zł"}},{"$nulls":3},1,1,2,1]
["5.2","l",{"$nulls":4},{"$f":"IFERROR(VLOOKUP(M23,tabelka,48+2*L23,0)+VLOOKUP(N23,tabelka,54,0),0)","v":1930},{"v":1930,"d":"1,930.00 zł"},{"$nulls":3},1,1,1,1]
["5.4","m",{"$nulls":4},{"$f":"VLOOKUP(L24,tabelka,27,0)","v":120},{"v":120,"d":"120.00 zł"},{"$nulls":3},1,null,null,1]
["5.5","n","IO  [ENERGOTEST]",{"$nulls":3},{"$f":"VLOOKUP(L25,tabelka,29,0)","v":560},{"v":560,"d":"560.00 zł"},{"$nulls":3},1,null,null,1]
["5.6","o",{"$nulls":4},{"$f":"VLOOKUP(L26,tabelka,31,0)","v":4320},{"v":4320,"d":"4,320.00 zł"},{"$nulls":3},1,null,null,1]
["5.7","p",{"$nulls":4},{"$f":"VLOOKUP(L27,tabelka,33,0)","v":180},{"v":180,"d":"180.00 zł"},{"$nulls":3},1,null,null,1]
["5.8","Inne","dodatek 1",null,null,0,null,{"$f":"F28*G28","v":{"v":0,"d":"0.00 zł"}}]
[null,null,"dodatek2",null,null,0,2830,{"$f":"F29*G29","v":{"v":0,"d":"0.00 zł"}}]
[{"$nulls":5},0,null,{"$f":"F30*G30","v":{"v":0,"d":"0.00 zł"}}]
[{"$nulls":5},0,null,{"v":0,"d":"0.00 zł"}]
[{"$nulls":5},0,null,{"v":0,"d":"0.00 zł"}]
[6,"pozycja6"]
["6.1","r",{"$nulls":4},{"$f":"VLOOKUP(L34,tabelka,35,0)","v":9752},{"$f":"VLOOKUP(O34,tabelka,42,0)*G34","v":{"v":9752,"d":"9,752.00 zł"}},{"$nulls":3},2,null,null,1]
["6.2","s",{"$nulls":4},{"$f":"VLOOKUP(L35,tabelka,37,0)","v":3680},{"$f":"VLOOKUP(O35,tabelka,42,0)*G35","v":{"v":3680,"d":"3,680.00 zł"}},{"$nulls":3},2,null,null,1]
["6.3","t",{"$nulls":4},{"$f":"VLOOKUP(L36,tabelka,39,0)","v":784},{"$f":"VLOOKUP(O36,tabelka,42,0)*G36","v":{"v":784,"d":"784.00 zł"}},{"$nulls":3},3,null,null,1]
[7,"u",{"$nulls":4},{"$f":"VLOOKUP(L37,tabelka,41,0)","v":2400},{"$f":"VLOOKUP(O37,tabelka,42,0)*G37","v":{"v":2400,"d":"2,400.00 zł"}},{"$nulls":3},1,null,null,1]
[8]
["8.1","zależne od pola ll"," ",null,null,1,{"$f":"VLOOKUP(wprowadzenie!H2,tabelka,72,0)","v":650},{"$f":"G39*F39","v":{"v":650,"d":"650.00 zł"}}]
["8.2","Szyny "," ",null,null,1,{"$f":"VLOOKUP(L2,tabelka,3,0)","v":1},{"$f":"G40*F40","v":{"v":1,"d":"1.00 zł"}}]
["8.3","hh",{"$nulls":3},6,{"$f":"VLOOKUP(L41,tabelka,64,0)","v":65},{"$f":"G41*F41","v":{"v":390,"d":"390.00 zł"}},{"$nulls":3},1]
[9,"ww"]
[null,"dodatkowe ww",{"$nulls":3},1,{"$f":"IF(L43=TRUE,VLOOKUP(1,tabelka,90,0),0) +SUM(blokada)","v":450},{"$f":"G43*F43","v":{"v":450,"d":"450.00 zł"}},{"$nulls":3},true]
[10,"oo"]
[null,"zależne od pola oo",{"$nulls":3},1,{"$f":"VLOOKUP(wprowadzenie!H4,tabelka,78,0)","v":500},{"$f":"G45*F45","v":{"v":500,"d":"500.00 zł"}}]
[{"$nulls":6},"Łącznie:",{"$f":"SUM(H8:H45)","v":{"v":35673,"d":"35,673.00 zł"}}]